Workbook
Name _ftn1: Breakdown!#REF!
Name _ftnref1: Budget_UNDP!#REF!

Sheet Breakdown
A1: Project Components | B1: Financing type | C1: Expected Outcome | D1: Expected Outputs | F1: UNDP Budget Lines | H1: Source of funds | I1: GEF | J1: UNDP
F2: Code | G2: Description | K2: Output Total (GEF & UNDP) | L2: Year 1 | M2: Year 2 | N2: Year 3 | O2: Year 4
A3: Component 1: Policy and Regulation | B3: TA | C3: 1. Stakeholder ownership in a national minigrid delivery model is advanced, and appropriate policies and regulations are adopted to facilitate investment in low-carbon minigrids. | D3: 1.1. | E3: An inclusive national dialogue to identify minigrid delivery models is facilitated, clarifying priority interventions for an integrated approach to off-grid electrification | F3: 71200 | G3: International consultants | H3: UNDP | I3: =K3-J3 -> 0 | J3: =K3 -> 9800 | K3: =SUM(L3:O3) -> 9800 | L3: =700*2*7 -> 9800 | M3: 0 | N3: 0 | O3: 0 | P3: 2 consultants paid @ $700 / day for 7 days
F4: 71300 | G4: Local Consultants | H4: GEF | I4: =K4-J4 -> 6000 | J4: 0 | K4: =SUM(L4:O4) -> 6000 | L4: =5*300 -> 1500 | M4: =5*300 -> 1500 | N4: =5*300 -> 1500 | O4: =5*300 -> 1500 | P4: $300 per meeting x 20 meetings over 4 years
F5: 71600 | G5: Travel | H5: GEF | I5: =K5-J5 -> 10010 | J5: 0 | K5: =SUM(L5:O5) -> 10010 | L5: =5*2*281+2*2*800+200*5 -> 7010 | M5: =5*200 -> 1000 | N5: =5*200 -> 1000 | O5: =5*200 -> 1000 | P5: Includes: - DSA for local travel for each meeting (@$200/meeting for 20 meetings, 5 in each year); - DSA for 2 people for 5 days @$281/day from the Senegalese platform in 2 trips (3 days + 2 days in Y1); - 2 return tickets (Dakar - Ouagadougou) for 2 people from the Senegalese Platform (@$800/flight) in Y1
F6: 75700 | G6: Training, workshop and conferences | H6: GEF | I6: =K6-J6 -> 6000 | J6: 0 | K6: =SUM(L6:O6) -> 6000 | L6: 1500 | M6: 1500 | N6: 1500 | O6: 1500 | P6: This will cover venues and related cost for for capacity- building trainings of multi-stakeholders' platform on various themes such as e-waste, tax-exemption, fundraising, delivery models, innovative minigrid technologies, etc. This line item will also cover participation of members of the Platform in workshops, when necessary (@$1,500/year)
D7: 1.2 | E7: Drafting a specific minigrid strategy including Mini-grid delivery model(s) identified from national dialogue on mini-grids. | F7: 71200 | G7: International consultants | H7: GEF | I7: =K7-J7 -> 8400 | J7: 0 | K7: =SUM(L7:O7) -> 8400 | L7: =700*12 -> 8400 | M7: 0 | N7: 0 | O7: 0 | P7: This covers contracting of 1 senior international consultant for 12 days (@ $700/day) with expertise in minigrid delivery models in Y1.
F8: 71300 | G8: Local Consultants | H8: GEF | I8: =K8-J8 -> 6000 | J8: 0 | K8: =SUM(L8:O8) -> 6000 | L8: =300*20 -> 6000 | M8: 0 | N8: 0 | O8: 0 | P8: A local technical expert will be contracted for 20 days to support the international consultant in drafting a minigrid delivery strategy (@$300/day) in Y1.
F9: 71600 | G9: Travel | H9: GEF | I9: =K9-J9 -> 4024 | J9: 0 | K9: =SUM(L9:O9) -> 4024 | L9: =4*281+1500+20*70 -> 4024 | M9: 0 | N9: 0 | O9: 0 | P9: This covers (all in Y1): - 4 days DSA for international consultant ($281*4); - 1 international return ticket for international consultant (@$1,500 per return ticket). The international consultant will attend the inception workshop virtually and the dissemination workshop on site. - Local travel for local consultant and stakeholders ($20*70).
F10: 75700 | G10: Training, workshop and conferences | H10: GEF | I10: =K10-J10 -> 5000 | J10: 0 | K10: =SUM(L10:O10) -> 5000 | L10: =2*2500 -> 5000 | M10: 0 | N10: 0 | O10: 0 | P10: This covers venue and related costs for 2 workshops (inception and dissemination) in Y1 during the minigrid strategy development (@$2,500 per workshop)
D11: 1.3 | E11: Capacity building of public officials (regulator, ministries, agencies) and private sector to fully play their role (tariffs, design procurement/tender processes that incorporate cost-reduction levers and innovative business models etc.) vis-à-vis texts emanating from the Energy Law | F11: 71200 | G11: International consultants | H11: UNDP | I11: =K11-J11 -> 0 | J11: =K11 -> 14000 | K11: =SUM(L11:O11) -> 14000 | L11: =8*700 -> 5600 | M11: =8*700 -> 5600 | N11: =4*700 -> 2800 | O11: 0 | P11: International consultant will be recruited for 20 days (8 days in Y1, 8 days in Y2, 4 days in Y3), so 3 trainings in total, to provide capacity-building trainings to targeted public sector stakeholders involved in minigrid promotion such as regulator, agencies, etc. (@ $700/day)
F12: 71300 | G12: Local Consultants | H12: GEF | I12: =K12-J12 -> 6000 | J12: 0 | K12: =SUM(L12:O12) -> 6000 | L12: =8*300 -> 2400 | M12: =8*300 -> 2400 | N12: =4*300 -> 1200 | O12: 0 | P12: A local consultant will be recruited for 20 days (8 days in Y1, 8 days in Y2, 4 days in Y3) to support the international expert in providing capacity-building trainings (@$300/day)
F13: 71600 | G13: Travel | H13: GEF | I13: =K13-J13 -> 12763 | J13: 0 | K13: =SUM(L13:O13) -> 12763 | L13: =9*281+30*20+1500 -> 4629 | M13: =9*281+30*20+1500 -> 4629 | N13: =5*281+30*20+1500 -> 3505 | O13: 0 | P13: This covers: - DSA for the international consultant for the 3 trainings (9 days in Y1, 9 days in Y2, 5 days in Y3) @ $281/day; - Local travel for participants to the 3 trainings: 30 participants per training @$20/participant/training; - 3 return tickets for the international consultant @ $1,500/ticket (1 in each of Y1, Y2, Y3)
F14: 72300 | G14: Materials & Goods | H14: GEF | I14: =K14-J14 -> 3000 | J14: 0 | K14: =SUM(L14:O14) -> 3000 | L14: 1000 | M14: 1000 | N14: 1000 | O14: 0 | P14: For procurement of tools necessary for increasing capacity of target stakeholders (@ $1,000 per year in Y1, Y2, Y3)
F15: 72500 | G15: Supplies | H15: GEF | I15: =K15-J15 -> 3000 | J15: 0 | K15: =SUM(L15:O15) -> 3000 | L15: 1000 | M15: 1000 | N15: 1000 | O15: 0 | P15: Supplies related to trainings and building technical capacities of target institutional actors (@ $1,000 per year in Y1, Y2, Y3)
F16: 75700 | G16: Training, workshop and conferences | H16: GEF | I16: =K16-J16 -> 7000 | J16: 0 | K16: =SUM(L16:O16) -> 7000 | L16: 2500 | M16: 2500 | N16: 2000 | O16: 0 | P16: To cover venue and related cost for the 3 trainings @ $2,500 per training in Y1 and Y2, and $2,000 in Y3.
D17: 1.4 | E17: Domestication of quality standards for solar minigrid components, and institutional capacity of national standards organizations/bureau strengthened | F17: 71200 | G17: International consultants | H17: GEF | I17: =K17-J17 -> 14000 | J17: 0 | K17: =SUM(L17:O17) -> 14000 | L17: =5*700 -> 3500 | M17: =15*700 -> 10500 | N17: 0 | O17: 0 | P17: An international expert on quality standards for minigrids will be recruited for 20 days (@ $700/day), including 5 days in Y1 and 15 days in Y2 to support development of quality standards and institutional capacity-building.
F18: 71300 | G18: Local Consultants | H18: GEF | I18: =K18-J18 -> 6000 | J18: 0 | K18: =SUM(L18:O18) -> 6000 | L18: =5*300 -> 1500 | M18: =15*300 -> 4500 | N18: 0 | O18: 0 | P18: A national consultant will be recruited to suppport the international expert. This is planned to cover 20 days level of effort (@ $300/day), including 5 days in Y1 and 15 days in Y2.
F19: 71600 | G19: Travel | H19: GEF | I19: =K19-J19 -> 10796 | J19: 0 | K19: =SUM(L19:O19) -> 10796 | L19: =4*281+30*20+1500 -> 3224 | M19: =12*281+30*20*2+3000 -> 7572 | N19: 0 | O19: 0 | P19: This covers: - DSA for the international consultant for the 3 trainings (4 days in Y1 and 12 days in Y2) @$281/day; - Local travel for participants to the 3 trainings: 30 participants per training @$20/participant/training, with 1 training in Y1 and 2 trainings in Y2; - 3 return tickets for the international consultant @ $2,000/ticket (1 in Y1 and 2 in Y2).
F20: 72300 | G20: Materials & Goods | H20: GEF | I20: =K20-J20 -> 5000 | J20: 0 | K20: =SUM(L20:O20) -> 5000 | L20: 5000 | M20: 0 | N20: 0 | O20: 0 | P20: Covers equipement and material for the testing laboratory (bought in Y1), for $5,000 in total.
F21: 74200 | G21: Audio Visual & Print Prod Costs | H21: GEF | I21: =K21-J21 -> 1000 | J21: 0 | K21: =SUM(L21:O21) -> 1000 | L21: 0 | M21: 1000 | N21: 0 | O21: 0 | P21: Communication costs at $1,000 in Y2.
F22: 75700 | G22: Training, workshop and conferences | H22: GEF | I22: =K22-J22 -> 7500 | J22: 0 | K22: =SUM(L22:O22) -> 7500 | L22: =2500 -> 2500 | M22: =2*2500 -> 5000 | N22: 0 | O22: 0 | P22: This covers 3 trainings @2,500/training, including 1 training and Y1 and 2 trainings in Y2.
F23: 72800 | G23: IT Equipment | H23: GEF | I23: =K23-J23 -> 8000 | J23: 0 | K23: =SUM(L23:O23) -> 8000 | L23: =8000 -> 8000 | M23: 0 | N23: 0 | O23: 0 | P23: This covers 3 computers and other IT equipment for the testing laboratory (bought in Y1), for a total of $8,000.
D24: 1.5 | E24: Operationalizing a certification scheme for installer building on ECREEE’s Regional Certification Scheme | F24: 71200 | G24: International consultants | H24: GEF | I24: =K24-J24 -> 7000 | J24: 0 | K24: =SUM(L24:O24) -> 7000 | L24: =5*700 -> 3500 | M24: =5*700 -> 3500 | N24: 0 | O24: 0 | P24: An international expert will be recruited for 10 days (@ $700/day), including 5 days in Y1 and 5 days in Y2 to support the operatinalization of the certification scheme.
F25: 71300 | G25: Local Consultants | H25: GEF | I25: =K25-J25 -> 3000 | J25: 0 | K25: =SUM(L25:O25) -> 3000 | L25: =5*300 -> 1500 | M25: =5*300 -> 1500 | N25: 0 | O25: 0 | P25: A local consultant will be recruited for 10 days (@ $300/day), including 5 days in Y1 and 5 days in Y2 to support the international consultant.
F26: 71600 | G26: Travel | H26: GEF | I26: =K26-J26 -> 7448 | J26: 0 | K26: =SUM(L26:O26) -> 7448 | L26: =4*281+30*20+2000 -> 3724 | M26: =4*281+30*20+2000 -> 3724 | N26: 0 | O26: 0 | P26: This covers: - DSA for the international consultant for 2 trainings (4 days in Y1 and 4 days in Y2) @$281/day; - Local travel for participants to the 2 trainings: 30 participants per training @$20/participant/training, with 1 training in Y1 and 1 training in Y2; - 2 return tickets for the international consultant @ $2,000/ticket (1 in Y1 and 1 in Y2).
F27: 72300 | G27: Materials & Goods | H27: UNDP | I27: =K27-J27 -> 0 | J27: 8000 | K27: =SUM(L27:O27) -> 8000 | L27: 4000 | M27: 4000 | N27: 0 | O27: 0 | P27: Covers equipement and material for the trainings, $4,000 in Y1 and $4,000 in Y2.
F28: 75700 | G28: Training, workshop and conferences | H28: GEF | I28: =K28-J28 -> 5000 | J28: 0 | K28: =SUM(L28:O28) -> 5000 | L28: 2500 | M28: 2500 | P28: This covers 2 trainings @2,500/training, including 1 training and Y1 and 1 training in Y2.
D29: 1.6 | E29: Light quantitative mini-grid DREI techno-economic analysis carried in Year 4 | F29: 71200 | G29: International consultants | H29: GEF | I29: =K29-J29 -> 7000 | J29: 0 | K29: =SUM(L29:O29) -> 7000 | L29: 0 | M29: 0 | N29: 0 | O29: =700*10 -> 7000 | P29: An international consultant @$700/day will be recruited for 10 days in Y4 to conduct the lightweight DREI analysis.
F30: 71300 | G30: Local Consultants | H30: GEF | I30: =K30-J30 -> 3000 | J30: 0 | K30: =SUM(L30:O30) -> 3000 | L30: 0 | M30: 0 | N30: 0 | O30: =300*10 -> 3000 | P30: A national consultant @ $300/day will be recruited for 10 days in Y4 to support the lightweight DREI analysis.
F31: 74200 | G31: Audio Visual & Print Prod Costs | H31: GEF | I31: =K31-J31 -> 3000 | J31: 0 | K31: =SUM(L31:O31) -> 3000 | L31: 0 | M31: 0 | N31: 0 | O31: 3000 | P31: Communication and translation costs for $3,000 in Y4.
A32: Sub-total Component 1 | G32: component 1 | I32: =SUM(I3:I31) -> 164941 | J32: =SUM(J3:J31) -> 31800 | K32: =SUM(K3:K31) -> 196741 | L32: =SUM(L3:L31) -> 99311 | M32: =SUM(M3:M31) -> 64925 | N32: =SUM(N3:N31) -> 15505 | O32: =SUM(O3:O31) -> 17000
A33: Component 2: Project and Business Model Innovation with Private Sector Engagement | B33: Inv & TA | C33: 2. Innovative business models based on cost reduction operationalized, with strengthened private sector participation in low-carbon minigrid development | D33: 2.1. | E33: Pilots developed, including on productive use/innovative appliances and modular hardware/system design, leading to cost-reduction in mini-grids (in regions complementing WB and AfDB investments). | F33: 71200 | G33: International consultants | H33: GEF | I33: =K33-J33 -> 19020 | J33: 0 | K33: =SUM(L33:O33) -> 19020 | L33: =7020+12000 -> 19020 | M33: 0 | N33: 0 | O33: 0 | P33: This include: - $12K for a legal consultant to support the tender and contracting process for the pilot projects in Y1; - $7,020 for a safeguards consultant in Y1.
F34: 71200 | G34: International consultants | H34: UNDP | I34: 0 | J34: =K34 -> 25248 | K34: =SUM(L34:O34) -> 25248 | L34: =6215 -> 6215 | M34: =2104*3 -> 6312 | N34: 6409 | O34: =2104*3 -> 6312 | P34: $6,312/year for safeguards and gender consultants.
F35: 72100 | G35: Contractual Services - companies | H35: GEF | I35: =K35-J35 -> 13100 | J35: 0 | K35: =SUM(L35:O35) -> 13100 | L35: 0 | M35: =3200+3306 -> 6506 | N35: =3297 -> 3297 | O35: =3297 -> 3297 | P35: Sub-contract to international firm/manufacturer to provide O&M @ $6,506 for Y2 then $3,297/year for Y3, Y4;
F36: 72300 | G36: Materials & Goods | H36: GEF | I36: =K36-J36 -> 236378 | J36: 0 | K36: =SUM(L36:O36) -> 236378 | L36: 0 | M36: 236378 | N36: 0 | O36: 0 | P36: Procurement of minigrid and related goods and services for the two pilot projects
F37: 72300 | G37: Materials & Goods | H37: UNDP | J37: =K37 -> 399622 | K37: =SUM(L37:O37) -> 399622 | L37: 0 | M37: 177622 | N37: 222000 | O37: 0 | P37: Procurement of minigrid and related goods and services for the two pilot projects
F38: 75700 | G38: Training, workshop and conferences | H38: GEF | I38: =K38-J38 -> 15000 | J38: 0 | K38: =SUM(L38:O38) -> 15000 | L38: 5000 | M38: 5000 | N38: 5000 | O38: 0 | P38: Training in innovative business models, entrepreneurship, installations, financial literacy for women. Also, issues of IPP and climate change will be covered under these trainings.
D39: 2.2. | E39: Capacity of winning tender bidders / new COOPELs and private sector actors (industry associations such as APER and others) strengthened to develop and implement innovative business models and cost-reduction levers. | F39: 71200 | G39: International consultants | H39: UNDP | I39: =K39-J39 -> 0 | J39: 9800 | K39: =SUM(L39:O39) -> 9800 | L39: =7*700 -> 4900 | M39: =7*700 -> 4900 | N39: 0 | O39: 0 | P39: International expert recruited for about 14 days to suppport training of target stakeholders
F40: 71300 | G40: Local Consultants | H40: GEF | I40: =K40-J40 -> 6000 | J40: 0 | K40: =SUM(L40:O40) -> 6000 | L40: =10*300 -> 3000 | M40: =10*300 -> 3000 | N40: 0 | O40: 0 | P40: Local expert to support elaboration and capacity-buidling in collaboration with an international expert.
...

Sheet Budget_UNDP
A1: Atlas Activity (GEF Component) | B1: Atlas Implementing Agent (Responsible Party , IP or UNDP) | D1: Atlas Fund ID | F1: Donor Name | H1: Atlas Budgetary Account Code | I1: ATLAS Budget Account Description | M1: Amount Year 1 (USD) | N1: Amount Year 2 (USD) | O1: Amount Year 3 (USD) | P1: Amount Year 4 (USD) | Q1: Total (USD) | R1: See Budget Note:
A3: COMPONENT 1: Policy and Regulation | B3: ABER and ECREEE and DGER (RPs) | D3: 62000 | F3: GEF | H3: 71200 | I3: International Consultants | M3: =SUMIFS(Breakdown!L$3:'Breakdown'!L$31, Breakdown!$F$3:'Breakdown'!$F$31, $H3, Breakdown!$H$3:'Breakdown'!$H$31, $F$3) -> 15400 | N3: =SUMIFS(Breakdown!M$3:'Breakdown'!M$31, Breakdown!$F$3:'Breakdown'!$F$31, $H3, Breakdown!$H$3:'Breakdown'!$H$31, $F$3) -> 14000 | O3: =SUMIFS(Breakdown!N$3:'Breakdown'!N$31, Breakdown!$F$3:'Breakdown'!$F$31, $H3, Breakdown!$H$3:'Breakdown'!$H$31, $F$3) -> 0 | P3: =SUMIFS(Breakdown!O$3:'Breakdown'!O$31, Breakdown!$F$3:'Breakdown'!$F$31, $H3, Breakdown!$H$3:'Breakdown'!$H$31, $F$3) -> 7000 | Q3: =SUM(M3:P3) -> 36400 | R3: 1 | S3: Includes: - For Output 1.2: This covers contracting of 1 senior international consultant for 12 days (@ $700/day) with expertise in minigrid delivery models in Y1. - For Output 1.4: An international expert on quality standards for minigrids will be recruited for 20 days (@ $700/day), including 5 days in Y1 and 15 days in Y2 to support development of quality standards and institutional capacity-building. - For Output 1.5: An international expert will be recruited for 10 days (@ $700/day), including 5 days in Y1 and 5 days in Y2 to support the operatinalization of the certification scheme. - For Output 1.6: An international consultant @$700/day will be recruited for 10 days in Y4 to conduct the lightweight DREI analysis.
H4: 71300 | I4: Local Consultants | M4: =SUMIFS(Breakdown!L$3:'Breakdown'!L$31, Breakdown!$F$3:'Breakdown'!$F$31, $H4, Breakdown!$H$3:'Breakdown'!$H$31, $F$3) -> 12900 | N4: =SUMIFS(Breakdown!M$3:'Breakdown'!M$31, Breakdown!$F$3:'Breakdown'!$F$31, $H4, Breakdown!$H$3:'Breakdown'!$H$31, $F$3) -> 9900 | O4: =SUMIFS(Breakdown!N$3:'Breakdown'!N$31, Breakdown!$F$3:'Breakdown'!$F$31, $H4, Breakdown!$H$3:'Breakdown'!$H$31, $F$3) -> 2700 | P4: =SUMIFS(Breakdown!O$3:'Breakdown'!O$31, Breakdown!$F$3:'Breakdown'!$F$31, $H4, Breakdown!$H$3:'Breakdown'!$H$31, $F$3) -> 4500 | Q4: =SUM(M4:P4) -> 30000 | R4: 2 | S4: Includes: - For Output 1.1: $300 per meeting x 20 meetings of the multi-stakeholder platform over 4 years. - For Output 1.2: A local technical expert will be contracted for 20 days to support the international consultant in drafting a minigrid delivery strategy (@$300/day) in Y1. - For Output 1.3: A local consultant will be recruited for 20 days (8 days in Y1, 8 days in Y2, 4 days in Y3) to support the international expert in providing capacity-building trainings (@$300/day). - For Output 1.4: A national consultant will be recruited to suppport the international expert. This is planned to cover 20 days level of effort (@ $300/day), including 5 days in Y1 and 15 days in Y2. - For Output 1.5: A local consultant will be recruited for 10 days (@ $300/day), including 5 days in Y1 and 5 days in Y2 to support the international consultant. - For Output 1.6: A national consultant @ $300/day will be recruited for 10 days in Y4 to support the lightweight DREI analysis.
H5: 71600 | I5: Travel | M5: =SUMIFS(Breakdown!L$3:'Breakdown'!L$31, Breakdown!$F$3:'Breakdown'!$F$31, $H5, Breakdown!$H$3:'Breakdown'!$H$31, $F$3) -> 22611 | N5: =SUMIFS(Breakdown!M$3:'Breakdown'!M$31, Breakdown!$F$3:'Breakdown'!$F$31, $H5, Breakdown!$H$3:'Breakdown'!$H$31, $F$3) -> 16925 | O5: =SUMIFS(Breakdown!N$3:'Breakdown'!N$31, Breakdown!$F$3:'Breakdown'!$F$31, $H5, Breakdown!$H$3:'Breakdown'!$H$31, $F$3) -> 4505 | P5: =SUMIFS(Breakdown!O$3:'Breakdown'!O$31, Breakdown!$F$3:'Breakdown'!$F$31, $H5, Breakdown!$H$3:'Breakdown'!$H$31, $F$3) -> 1000 | Q5: =SUM(M5:P5) -> 45041 | R5: 3 | S5: Includes: - For Output 1.1: DSA for local travel for each meeting (@$200/meeting for 20 meetings, 5 in each year); DSA for 2 people for 5 days @$281/day from the Senegalese platform in 2 trips (3 days + 2 days in Y1); 2 return tickets (Dakar - Ouagadougou) for 2 people from the Senegalese Platform (@$800/flight) in Y1. - For Output 1.2: This covers (all in Y1): 4 days DSA for international consultant ($281*4); 1 international return ticket for international consultant (@$1,500 per return ticket). The international consultant will attend the inception workshop virtually and the dissemination workshop on site. Local travel for local consultant and stakeholders ($20*70). - For Output 1.3: This covers DSA for the international consultant for the 3 trainings (9 days in Y1, 9 days in Y2, 5 days in Y3) @ $281/day; Local travel for participants to the 3 trainings: 30 participants per training @$20/participant/training; 3 return tickets for the international consultant @ $1,500/ticket (1 in each of Y1, Y2, Y3). - For Output 1.4: This covers DSA for the international consultant for the 3 trainings (4 days in Y1 and 12 days in Y2) @$281/day; Local travel for participants to the 3 trainings: 30 participants per training @$20/participant/training, with 1 training in Y1 and 2 trainings in Y2; 3 return tickets for the international consultant @ $1,500/ticket (1 in Y1 and 2 in Y2). - For Output 1.5: This covers DSA for the international consultant for 2 trainings (4 days in Y1 and 4 days in Y2) @$281/day; Local travel for participants to the 2 trainings: 30 participants per training @$20/participant/training, with 1 training in Y1 and 1 training in Y2; 2 return tickets for the international consultant @ $2,000/ticket (1 in Y1 and 1 in Y2).
H6: 72300 | I6: Materials & Goods | M6: =SUMIFS(Breakdown!L$3:'Breakdown'!L$31, Breakdown!$F$3:'Breakdown'!$F$31, $H6, Breakdown!$H$3:'Breakdown'!$H$31, $F$3) -> 6000 | N6: =SUMIFS(Breakdown!M$3:'Breakdown'!M$31, Breakdown!$F$3:'Breakdown'!$F$31, $H6, Breakdown!$H$3:'Breakdown'!$H$31, $F$3) -> 1000 | O6: =SUMIFS(Breakdown!N$3:'Breakdown'!N$31, Breakdown!$F$3:'Breakdown'!$F$31, $H6, Breakdown!$H$3:'Breakdown'!$H$31, $F$3) -> 1000 | P6: =SUMIFS(Breakdown!O$3:'Breakdown'!O$31, Breakdown!$F$3:'Breakdown'!$F$31, $H6, Breakdown!$H$3:'Breakdown'!$H$31, $F$3) -> 0 | Q6: =SUM(M6:P6) -> 8000 | R6: 4 | S6: Includes: - For Output 1.3: For procurement of tools necessary for increasing capacity of target stakeholders (@ $1,000 per year in Y1, Y2, Y3). - For Output 1.4: Covers equipement and material for the testing laboratory (bought in Y1), for $5,000 in total.
H7: 72500 | I7: Supplies | M7: =SUMIFS(Breakdown!L$3:'Breakdown'!L$31, Breakdown!$F$3:'Breakdown'!$F$31, $H7, Breakdown!$H$3:'Breakdown'!$H$31, $F$3) -> 1000 | N7: =SUMIFS(Breakdown!M$3:'Breakdown'!M$31, Breakdown!$F$3:'Breakdown'!$F$31, $H7, Breakdown!$H$3:'Breakdown'!$H$31, $F$3) -> 1000 | O7: =SUMIFS(Breakdown!N$3:'Breakdown'!N$31, Breakdown!$F$3:'Breakdown'!$F$31, $H7, Breakdown!$H$3:'Breakdown'!$H$31, $F$3) -> 1000 | P7: =SUMIFS(Breakdown!O$3:'Breakdown'!O$31, Breakdown!$F$3:'Breakdown'!$F$31, $H7, Breakdown!$H$3:'Breakdown'!$H$31, $F$3) -> 0 | Q7: =SUM(M7:P7) -> 3000 | R7: 5 | S7: Includes: - For Output 1.3: Supplies related to trainings and building technical capacities of target institutional actors (@ $1,000 per year in Y1, Y2, Y3).
H8: 74200 | I8: Audio Visual & Print Prod Costs | M8: =SUMIFS(Breakdown!L$3:'Breakdown'!L$31, Breakdown!$F$3:'Breakdown'!$F$31, $H8, Breakdown!$H$3:'Breakdown'!$H$31, $F$3) -> 0 | N8: =SUMIFS(Breakdown!M$3:'Breakdown'!M$31, Breakdown!$F$3:'Breakdown'!$F$31, $H8, Breakdown!$H$3:'Breakdown'!$H$31, $F$3) -> 1000 | O8: =SUMIFS(Breakdown!N$3:'Breakdown'!N$31, Breakdown!$F$3:'Breakdown'!$F$31, $H8, Breakdown!$H$3:'Breakdown'!$H$31, $F$3) -> 0 | P8: =SUMIFS(Breakdown!O$3:'Breakdown'!O$31, Breakdown!$F$3:'Breakdown'!$F$31, $H8, Breakdown!$H$3:'Breakdown'!$H$31, $F$3) -> 3000 | Q8: =SUM(M8:P8) -> 4000 | R8: 6 | S8: Includes: - For Output 1.4: Communication costs at $1,000 in Y2. - For Output 1.6: Communication and translation costs for $3,000 in Y4.
H9: 75700 | I9: Training, workshop, conferences | M9: =SUMIFS(Breakdown!L$3:'Breakdown'!L$31, Breakdown!$F$3:'Breakdown'!$F$31, $H9, Breakdown!$H$3:'Breakdown'!$H$31, $F$3) -> 14000 | N9: =SUMIFS(Breakdown!M$3:'Breakdown'!M$31, Breakdown!$F$3:'Breakdown'!$F$31, $H9, Breakdown!$H$3:'Breakdown'!$H$31, $F$3) -> 11500 | O9: =SUMIFS(Breakdown!N$3:'Breakdown'!N$31, Breakdown!$F$3:'Breakdown'!$F$31, $H9, Breakdown!$H$3:'Breakdown'!$H$31, $F$3) -> 3500 | P9: =SUMIFS(Breakdown!O$3:'Breakdown'!O$31, Breakdown!$F$3:'Breakdown'!$F$31, $H9, Breakdown!$H$3:'Breakdown'!$H$31, $F$3) -> 1500 | Q9: =SUM(M9:P9) -> 30500 | R9: 7 | S9: Includes: - For Output 1.1: This will cover venues and related cost for for capacity- building trainings of multi-stakeholders' platform on various themes such as e-waste, tax-exemption, fundraising, delivery models, innovative minigrid technologies, etc. This line item will also cover participation of members of the Platform in workshops, when necessary (@$1,500/year). - For Output 1.2: This covers venue and related costs for 2 workshops (inception and dissemination) in Y1 during the minigrid strategy development (@$2,500 per workshop). - For Output 1.3: To cover venue and related cost for the 3 trainings @ $2,500 per training in Y1 and Y2, and $2,000 in Y3. - For Output 1.4: This covers 3 trainings @2,500/training, including 1 training and Y1 and 2 trainings in Y2. - For Output 1.5: This covers 2 trainings @2,500/training, including 1 training and Y1 and 1 training in Y2.
H10: 72800 | I10: IT Equipment | M10: =SUMIFS(Breakdown!L$3:'Breakdown'!L$31, Breakdown!$F$3:'Breakdown'!$F$31, $H10, Breakdown!$H$3:'Breakdown'!$H$31, $F$3) -> 8000 | N10: =SUMIFS(Breakdown!M$3:'Breakdown'!M$31, Breakdown!$F$3:'Breakdown'!$F$31, $H10, Breakdown!$H$3:'Breakdown'!$H$31, $F$3) -> 0 | O10: =SUMIFS(Breakdown!N$3:'Breakdown'!N$31, Breakdown!$F$3:'Breakdown'!$F$31, $H10, Breakdown!$H$3:'Breakdown'!$H$31, $F$3) -> 0 | P10: =SUMIFS(Breakdown!O$3:'Breakdown'!O$31, Breakdown!$F$3:'Breakdown'!$F$31, $H10, Breakdown!$H$3:'Breakdown'!$H$31, $F$3) -> 0 | Q10: =SUM(M10:P10) -> 8000 | R10: 8 | S10: Includes: - For Output 1.4: This covers 3 computers and other IT equipment for the testing laboratory (bought in Y1), for a total of $8,000.
I11: sub-total GEF | M11: =SUM(M3:M10) -> 79911 | N11: =SUM(N3:N10) -> 55325 | O11: =SUM(O3:O10) -> 12705 | P11: =SUM(P3:P10) -> 17000 | Q11: =SUM(M11:P11) -> 164941
D12: 4000 | F12: UNDP | H12: 71200 | I12: International consultants | M12: =SUMIFS(Breakdown!L$3:'Breakdown'!L$31, Breakdown!$F$3:'Breakdown'!$F$31, $H12, Breakdown!$H$3:'Breakdown'!$H$31, $F$12) -> 15400 | N12: =SUMIFS(Breakdown!M$3:'Breakdown'!M$31, Breakdown!$F$3:'Breakdown'!$F$31, $H12, Breakdown!$H$3:'Breakdown'!$H$31, $F$12) -> 5600 | O12: =SUMIFS(Breakdown!N$3:'Breakdown'!N$31, Breakdown!$F$3:'Breakdown'!$F$31, $H12, Breakdown!$H$3:'Breakdown'!$H$31, $F$12) -> 2800 | P12: =SUMIFS(Breakdown!O$3:'Breakdown'!O$31, Breakdown!$F$3:'Breakdown'!$F$31, $H12, Breakdown!$H$3:'Breakdown'!$H$31, $F$12) -> 0 | Q12: =SUM(M12:P12) -> 23800 | R12: 9 | S12: Includes: - For Output 1.1: 2 consultants paid @ $700 / day for 7 days each to support the national multi-stakeholder platform. - For Output 1.3: International consultant will be recruited for 20 days (8 days in Y1, 8 days in Y2, 4 days in Y3), so 3 trainings in total, to provide capacity-building trainings to targeted public sector stakeholders involved in minigrid promotion such as regulator, agencies, etc. (@ $700/day).
H13: 72300 | I13: Materials & Goods | M13: =SUMIFS(Breakdown!L$3:'Breakdown'!L$31, Breakdown!$F$3:'Breakdown'!$F$31, $H13, Breakdown!$H$3:'Breakdown'!$H$31, $F$12) -> 4000 | N13: =SUMIFS(Breakdown!M$3:'Breakdown'!M$31, Breakdown!$F$3:'Breakdown'!$F$31, $H13, Breakdown!$H$3:'Breakdown'!$H$31, $F$12) -> 4000 | O13: =SUMIFS(Breakdown!N$3:'Breakdown'!N$31, Breakdown!$F$3:'Breakdown'!$F$31, $H13, Breakdown!$H$3:'Breakdown'!$H$31, $F$12) -> 0 | P13: =SUMIFS(Breakdown!O$3:'Breakdown'!O$31, Breakdown!$F$3:'Breakdown'!$F$31, $H13, Breakdown!$H$3:'Breakdown'!$H$31, $F$12) -> 0 | Q13: =SUM(M13:P13) -> 8000 | R13: 10 | S13: Includes: - For Output 1.5: Covers equipement and material for the trainings, $4,000 in Y1 and $4,000 in Y2.
I14: sub-total UNDP | M14: =SUM(M12:M13) -> 19400 | N14: =SUM(N12:N13) -> 9600 | O14: =SUM(O12:O13) -> 2800 | P14: =SUM(P12:P13) -> 0 | Q14: =SUM(M14:P14) -> 31800
I15: Total Outcome 1 | M15: =M11+M14 -> 99311 | N15: =N11+N14 -> 64925 | O15: =O11+O14 -> 15505 | P15: =P11+P14 -> 17000 | Q15: =SUM(M15:P15) -> 196741
A16: COMPONENT 2: Project and Business Model Innovation with Private Sector Engagement | B16: ABER | D16: 62000 | F16: GEF | H16: 71200 | I16: International Consultants | M16: =SUMIFS(Breakdown!L$33:'Breakdown'!L$51, Breakdown!$F$33:'Breakdown'!$F$51, $H16, Breakdown!$H$33:'Breakdown'!$H$51, $F$16) -> 19020 | N16: =SUMIFS(Breakdown!M$33:'Breakdown'!M$51, Breakdown!$F$33:'Breakdown'!$F$51, $H16, Breakdown!$H$33:'Breakdown'!$H$51, $F$16) -> 0 | O16: =SUMIFS(Breakdown!N$33:'Breakdown'!N$51, Breakdown!$F$33:'Breakdown'!$F$51, $H16, Breakdown!$H$33:'Breakdown'!$H$51, $F$16) -> 0 | P16: =SUMIFS(Breakdown!O$33:'Breakdown'!O$51, Breakdown!$F$33:'Breakdown'!$F$51, $H16, Breakdown!$H$33:'Breakdown'!$H$51, $F$16) -> 0 | Q16: =SUM(M16:P16) -> 19020 | R16: 11 | S16: Includes: - For Output 2.1: This include: $12K for a legal consultant to support the tender and contracting process for the pilot projects in Y1; $7,020 for a safeguards consultant in Y1.
H17: 71300 | I17: Local Consultants | M17: =SUMIFS(Breakdown!L$33:'Breakdown'!L$51, Breakdown!$F$33:'Breakdown'!$F$51, $H17, Breakdown!$H$33:'Breakdown'!$H$51, $F$16) -> 6600 | N17: =SUMIFS(Breakdown!M$33:'Breakdown'!M$51, Breakdown!$F$33:'Breakdown'!$F$51, $H17, Breakdown!$H$33:'Breakdown'!$H$51, $F$16) -> 6600 | O17: =SUMIFS(Breakdown!N$33:'Breakdown'!N$51, Breakdown!$F$33:'Breakdown'!$F$51, $H17, Breakdown!$H$33:'Breakdown'!$H$51, $F$16) -> 0 | P17: =SUMIFS(Breakdown!O$33:'Breakdown'!O$51, Breakdown!$F$33:'Breakdown'!$F$51, $H17, Breakdown!$H$33:'Breakdown'!$H$51, $F$16) -> 0 | Q17: =SUM(M17:P17) -> 13200 | R17: 12 | S17: Includes: - For Output 2.2: Local expert to support elaboration and capacity-buidling in collaboration with an international expert: 10 days in Y1 and 10 days in Y2 @ $300/day.. - For Output 2.3: Part-time HR to provide admin services to the Association and also adhoc consulting needs (12 days @ $300/day for Y1 and Y2 each).
H18: 71600 | I18: Travel | M18: =SUMIFS(Breakdown!L$33:'Breakdown'!L$51, Breakdown!$F$33:'Breakdown'!$F$51, $H18, Breakdown!$H$33:'Breakdown'!$H$51, $F$16) -> 4005 | N18: =SUMIFS(Breakdown!M$33:'Breakdown'!M$51, Breakdown!$F$33:'Breakdown'!$F$51, $H18, Breakdown!$H$33:'Breakdown'!$H$51, $F$16) -> 16125 | O18: =SUMIFS(Breakdown!N$33:'Breakdown'!N$51, Breakdown!$F$33:'Breakdown'!$F$51, $H18, Breakdown!$H$33:'Breakdown'!$H$51, $F$16) -> 0 | P18: =SUMIFS(Breakdown!O$33:'Breakdown'!O$51, Breakdown!$F$33:'Breakdown'!$F$51, $H18, Breakdown!$H$33:'Breakdown'!$H$51, $F$16) -> 0 | Q18: =SUM(M18:P18) -> 20130 | R18: 13 | S18: Includes: - For Output 2.2: This covers DSA for the international consultant for the 2 trainings (5 days in Y1, 5 days in Y2) @ $281/day; Local travel for participants to the 2 trainings: 30 participants per training @$20/participant/training; 2 return tickets for the international consultant @ $2,000/ticket (1 in each of Y1, Y2). - For Output 2.3: This covers DSAs for 4 people for 5 days @ $281/day; 4 return tickets: 1 for the international consultant @ $2,000/ticket, and 3 for the members of the association @ $1,500/ticket.
H19: 72100 | I19: Contractual services - Companies | M19: =SUMIFS(Breakdown!L$33:'Breakdown'!L$51, Breakdown!$F$33:'Breakdown'!$F$51, $H19, Breakdown!$H$33:'Breakdown'!$H$51, $F$16) -> 0 | N19: =SUMIFS(Breakdown!M$33:'Breakdown'!M$51, Breakdown!$F$33:'Breakdown'!$F$51, $H19, Breakdown!$H$33:'Breakdown'!$H$51, $F$16) -> 6506 | O19: =SUMIFS(Breakdown!N$33:'Breakdown'!N$51, Breakdown!$F$33:'Breakdown'!$F$51, $H19, Breakdown!$H$33:'Breakdown'!$H$51, $F$16) -> 3297 | P19: =SUMIFS(Breakdown!O$33:'Breakdown'!O$51, Breakdown!$F$33:'Breakdown'!$F$51, $H19, Breakdown!$H$33:'Breakdown'!$H$51, $F$16) -> 3297 | Q19: =SUM(M19:P19) -> 13100 | R19: 14 | S19: Includes: - For Output 2.1: Sub-contract to international firm/manufacturer to provide O&M @ $6,506 for Y2 then $3,297/year for Y3, Y4.
H20: 72300 | I20: Materials & Goods | M20: =SUMIFS(Breakdown!L$33:'Breakdown'!L$51, Breakdown!$F$33:'Breakdown'!$F$51, $H20, Breakdown!$H$33:'Breakdown'!$H$51, $F$16) -> 0 | N20: =SUMIFS(Breakdown!M$33:'Breakdown'!M$51, Breakdown!$F$33:'Breakdown'!$F$51, $H20, Breakdown!$H$33:'Breakdown'!$H$51, $F$16) -> 236378 | O20: =SUMIFS(Breakdown!N$33:'Breakdown'!N$51, Breakdown!$F$33:'Breakdown'!$F$51, $H20, Breakdown!$H$33:'Breakdown'!$H$51, $F$16) -> 0 | P20: =SUMIFS(Breakdown!O$33:'Breakdown'!O$51, Breakdown!$F$33:'Breakdown'!$F$51, $H20, Breakdown!$H$33:'Breakdown'!$H$51, $F$16) -> 0 | Q20: =SUM(M20:P20) -> 236378 | R20: 15 | S20: Includes: - For Output 2.1: Procurement of minigrid and related goods and services for the two pilot projects.
H21: 72800 | I21: IT Equipment | M21: =SUMIFS(Breakdown!L$33:'Breakdown'!L$51, Breakdown!$F$33:'Breakdown'!$F$51, $H21, Breakdown!$H$33:'Breakdown'!$H$51, $F$16) -> 2500 | N21: =SUMIFS(Breakdown!M$33:'Breakdown'!M$51, Breakdown!$F$33:'Breakdown'!$F$51, $H21, Breakdown!$H$33:'Breakdown'!$H$51, $F$16) -> 0 | O21: =SUMIFS(Breakdown!N$33:'Breakdown'!N$51, Breakdown!$F$33:'Breakdown'!$F$51, $H21, Breakdown!$H$33:'Breakdown'!$H$51, $F$16) -> 0 | P21: =SUMIFS(Breakdown!O$33:'Breakdown'!O$51, Breakdown!$F$33:'Breakdown'!$F$51, $H21, Breakdown!$H$33:'Breakdown'!$H$51, $F$16) -> 0 | Q21: =SUM(M21:P21) -> 2500 | R21: 16 | S21: Includes: - For Output 2.3: 2 computers, 1 printers, etc. for the office @ $2,500 in Y1.
H22: 74200 | I22: Audio Visual & Print Prod Costs | M22: =SUMIFS(Breakdown!L$33:'Breakdown'!L$51, Breakdown!$F$33:'Breakdown'!$F$51, $H22, Breakdown!$H$33:'Breakdown'!$H$51, $F$16) -> 1500 | N22: =SUMIFS(Breakdown!M$33:'Breakdown'!M$51, Breakdown!$F$33:'Breakdown'!$F$51, $H22, Breakdown!$H$33:'Breakdown'!$H$51, $F$16) -> 0 | O22: =SUMIFS(Breakdown!N$33:'Breakdown'!N$51, Breakdown!$F$33:'Breakdown'!$F$51, $H22, Breakdown!$H$33:'Breakdown'!$H$51, $F$16) -> 0 | P22: =SUMIFS(Breakdown!O$33:'Breakdown'!O$51, Breakdown!$F$33:'Breakdown'!$F$51, $H22, Breakdown!$H$33:'Breakdown'!$H$51, $F$16) -> 0 | Q22: =SUM(M22:P22) -> 1500 | R22: 17 | S22: Includes: - For Output 2.3: This will cover printing of brochures, business cards and etc. @ $1,500 in Y1.
H23: 75700 | I23: Training, workshop, conferences | M23: =SUMIFS(Breakdown!L$33:'Breakdown'!L$51, Breakdown!$F$33:'Breakdown'!$F$51, $H23, Breakdown!$H$33:'Breakdown'!$H$51, $F$16) -> 7500 | N23: =SUMIFS(Breakdown!M$33:'Breakdown'!M$51, Breakdown!$F$33:'Breakdown'!$F$51, $H23, Breakdown!$H$33:'Breakdown'!$H$51, $F$16) -> 10000 | O23: =SUMIFS(Breakdown!N$33:'Breakdown'!N$51, Breakdown!$F$33:'Breakdown'!$F$51, $H23, Breakdown!$H$33:'Breakdown'!$H$51, $F$16) -> 7500 | P23: =SUMIFS(Breakdown!O$33:'Breakdown'!O$51, Breakdown!$F$33:'Breakdown'!$F$51, $H23, Breakdown!$H$33:'Breakdown'!$H$51, $F$16) -> 0 | Q23: =SUM(M23:P23) -> 25000 | R23: 18 | S23: Includes: - For Output 2.1: Training in innovative business models, entrepreneurship, installations, financial literacy for women. Also, issues of IPP and climate change will be covered under these trainings. - For Output 2.2: This covers 2 trainings @2,500/training, including 1 training and Y1 and 1 training in Y2. - For Output 2.3: This covers venue, breaks, etc. fees paid to attend conferences, etc. as well as possible registration fees to attend workshops @ $2,500 in Y1 and $2,500 in Y2.
I24: sub-total GEF | M24: =SUM(M16:M23) -> 41125 | N24: =SUM(N16:N23) -> 275609 | O24: =SUM(O16:O23) -> 10797 | P24: =SUM(P16:P23) -> 3297 | Q24: =SUM(M24:P24) -> 330828
D25: 4000 | F25: UNDP | H25: 71200 | I25: International Consultants | M25: =SUMIFS(Breakdown!L$33:'Breakdown'!L$51, Breakdown!$F$33:'Breakdown'!$F$51, $H25, Breakdown!$H$33:'Breakdown'!$H$51, $F$25) -> 15315 | N25: =SUMIFS(Breakdown!M$33:'Breakdown'!M$51, Breakdown!$F$33:'Breakdown'!$F$51, $H25, Breakdown!$H$33:'Breakdown'!$H$51, $F$25) -> 15412 | O25: =SUMIFS(Breakdown!N$33:'Breakdown'!N$51, Breakdown!$F$33:'Breakdown'!$F$51, $H25, Breakdown!$H$33:'Breakdown'!$H$51, $F$25) -> 6409 | P25: =SUMIFS(Breakdown!O$33:'Breakdown'!O$51, Breakdown!$F$33:'Breakdown'!$F$51, $H25, Breakdown!$H$33:'Breakdown'!$H$51, $F$25) -> 6312 | Q25: =SUM(M25:P25) -> 43448 | R25: 19 | S25: Includes: - For Output 2.1: $6,215 in Y1, $6,312 in Y2, $6,409 in Y3, $6,312 in Y4 for safeguards and gender consultants. - For Output 2.2: International expert recruited for about 14 days to suppport training of target stakeholders (7 days in Y1 and 7 days in Y2 @ $700/day). - For Output 2.3: An international consultant will support the industry association in terms of best-practices, membership growth, bylaws, etc. 12 days @ $700/day (6 days in Y1 and 6 days in Y2).
H26: 72100 | I26: Contractual services - Companies | M26: =SUMIFS(Breakdown!L$33:'Breakdown'!L$51, Breakdown!$F$33:'Breakdown'!$F$51, $H26, Breakdown!$H$33:'Breakdown'!$H$51, $F$25) -> 2000 | N26: =SUMIFS(Breakdown!M$33:'Breakdown'!M$51, Breakdown!$F$33:'Breakdown'!$F$51, $H26, Breakdown!$H$33:'Breakdown'!$H$51, $F$25) -> 2000 | O26: =SUMIFS(Breakdown!N$33:'Breakdown'!N$51, Breakdown!$F$33:'Breakdown'!$F$51, $H26, Breakdown!$H$33:'Breakdown'!$H$51, $F$25) -> 0 | P26: =SUMIFS(Breakdown!O$33:'Breakdown'!O$51, Breakdown!$F$33:'Breakdown'!$F$51, $H26, Breakdown!$H$33:'Breakdown'!$H$51, $F$25) -> 0 | Q26: =SUM(M26:P26) -> 4000 | R26: 20 | S26: Includes: - For Output 2.3: A firm will be hired to develop/design communication collaterals for the association such as website, deck, etc.@ $2,000 in Y1 and $2,000 in Y2.
H27: 72300 | I27: Materials & Goods | M27: =SUMIFS(Breakdown!L$33:'Breakdown'!L$51, Breakdown!$F$33:'Breakdown'!$F$51, $H27, Breakdown!$H$33:'Breakdown'!$H$51, $F$25) -> 2000 | N27: =SUMIFS(Breakdown!M$33:'Breakdown'!M$51, Breakdown!$F$33:'Breakdown'!$F$51, $H27, Breakdown!$H$33:'Breakdown'!$H$51, $F$25) -> 177622 | O27: =SUMIFS(Breakdown!N$33:'Breakdown'!N$51, Breakdown!$F$33:'Breakdown'!$F$51, $H27, Breakdown!$H$33:'Breakdown'!$H$51, $F$25) -> 222000 | P27: =SUMIFS(Breakdown!O$33:'Breakdown'!O$51, Breakdown!$F$33:'Breakdown'!$F$51, $H27, Breakdown!$H$33:'Breakdown'!$H$51, $F$25) -> 0 | Q27: =SUM(M27:P27) -> 401622 | R27: 21 | S27: Includes: - For Output 2.1: Procurement of minigrid and related goods and services for the two pilot projects: $177,622 in Y2 and $222,000 in Y3. - For Output 2.3: This will cover office supplies for the association, i.e. furnitures, etc. @ $2,000 in Y1
H28: 74100 | I28: Professional Services (Audit) | M28: =SUMIFS(Breakdown!L$33:'Breakdown'!L$51, Breakdown!$F$33:'Breakdown'!$F$51, $H28, Breakdown!$H$33:'Breakdown'!$H$51, $F$25) -> 2000 | N28: =SUMIFS(Breakdown!M$33:'Breakdown'!M$51, Breakdown!$F$33:'Breakdown'!$F$51, $H28, Breakdown!$H$33:'Breakdown'!$H$51, $F$25) -> 2000 | O28: =SUMIFS(Breakdown!N$33:'Breakdown'!N$51, Breakdown!$F$33:'Breakdown'!$F$51, $H28, Breakdown!$H$33:'Breakdown'!$H$51, $F$25) -> 0 | P28: =SUMIFS(Breakdown!O$33:'Breakdown'!O$51, Breakdown!$F$33:'Breakdown'!$F$51, $H28, Breakdown!$H$33:'Breakdown'!$H$51, $F$25) -> 0 | Q28: =SUM(M28:P28) -> 4000 | R28: 22 | S28: Includes: - For Output 2.3: To cover initiatial support for industry association in terms book-keeping, audit for 2 years@$2K per year for Y1 and Y2.
I29: sub-total UNDP | M29: =SUM(M25:M28) -> 21315 | N29: =SUM(N25:N28) -> 197034 | O29: =SUM(O25:O28) -> 228409 | P29: =SUM(P25:P28) -> 6312 | Q29: =SUM(M29:P29) -> 453070
I30: Total Outcome 2 | M30: =M24+M29 -> 62440 | N30: =N24+N29 -> 472643 | O30: =O24+O29 -> 239206 | P30: =P24+P29 -> 9609 | Q30: =Q24+Q29 -> 783898
A31: COMPONENT 3: Innovative financing | B31: ABER and UNCDF (RP) | D31: 62000 | F31: GEF | H31: 71600 | I31: Travel | M31: =SUMIFS(Breakdown!L$53:'Breakdown'!L$66, Breakdown!$F$53:'Breakdown'!$F$66, $H31, Breakdown!$H$53:'Breakdown'!$H$66, $F$31) -> 3224 | N31: =SUMIFS(Breakdown!M$53:'Breakdown'!M$66, Breakdown!$F$53:'Breakdown'!$F$66, $H31, Breakdown!$H$53:'Breakdown'!$H$66, $F$31) -> 3224 | O31: =SUMIFS(Breakdown!N$53:'Breakdown'!N$66, Breakdown!$F$53:'Breakdown'!$F$66, $H31, Breakdown!$H$53:'Breakdown'!$H$66, $F$31) -> 3224 | P31: =SUMIFS(Breakdown!O$53:'Breakdown'!O$66, Breakdown!$F$53:'Breakdown'!$F$66, $H31, Breakdown!$H$53:'Breakdown'!$H$66, $F$31) -> 0 | Q31: =SUM(M31:P31) -> 9672 | R31: 23 | S31: Includes: - For Output 3.1: This covers: DSAs for the international consultant for 12 days @ $281/day; 3 return tickets @ $1,500/ticket; Local travel for participants to the 3 trainings: 30 participants per training @$20/participant/training.
H32: 72100 | I32: Contractual services - Companies | M32: =SUMIFS(Breakdown!L$53:'Breakdown'!L$66, Breakdown!$F$53:'Breakdown'!$F$66, $H32, Breakdown!$H$53:'Breakdown'!$H$66, $F$31) -> 55000 | N32: =SUMIFS(Breakdown!M$53:'Breakdown'!M$66, Breakdown!$F$53:'Breakdown'!$F$66, $H32, Breakdown!$H$53:'Breakdown'!$H$66, $F$31) -> 25000 | O32: =SUMIFS(Breakdown!N$53:'Breakdown'!N$66, Breakdown!$F$53:'Breakdown'!$F$66, $H32, Breakdown!$H$53:'Breakdown'!$H$66, $F$31) -> 50000 | P32: =SUMIFS(Breakdown!O$53:'Breakdown'!O$66, Breakdown!$F$53:'Breakdown'!$F$66, $H32, Breakdown!$H$53:'Breakdown'!$H$66, $F$31) -> 0 | Q32: =SUM(M32:P32) -> 130000 | R32: 24 | S32: Includes: - For Output 3.1: 3 capacity-building consulting contracts@$5,000 each for Y1, Y2, Y3. - For Output 3.2: Contractual services for market assessment exercises @ $30,000 in Y1. - For Output 3.3: Contractual services for identification of instruments; design of fund operational structure; fundraising for the financial instrument @ $30,000 in Y3. - For Output 3.4: Contractual services for the feasibility study @ $20,000 in Y2 and $20,000 in Y3. - For Output 3.5: Contractual services for the development of the impact framework @ $15,000 in Y3.
H33: 74200 | I33: Audio Visual & Print Prod Costs | M33: =SUMIFS(Breakdown!L$53:'Breakdown'!L$66, Breakdown!$F$53:'Breakdown'!$F$66, $H33, Breakdown!$H$53:'Breakdown'!$H$66, $F$31) -> 3000 | N33: =SUMIFS(Breakdown!M$53:'Breakdown'!M$66, Breakdown!$F$53:'Breakdown'!$F$66, $H33, Breakdown!$H$53:'Breakdown'!$H$66, $F$31) -> 3000 | O33: =SUMIFS(Breakdown!N$53:'Breakdown'!N$66, Breakdown!$F$53:'Breakdown'!$F$66, $H33, Breakdown!$H$53:'Breakdown'!$H$66, $F$31) -> 0 | P33: =SUMIFS(Breakdown!O$53:'Breakdown'!O$66, Breakdown!$F$53:'Breakdown'!$F$66, $H33, Breakdown!$H$53:'Breakdown'!$H$66, $F$31) -> 3000 | Q33: =SUM(M33:P33) -> 9000 | R33: 25 | S33: Includes: - For Output 3.2: For dissemimnation of market intelligence @ $3,000 in Y1. - For Output 3.4: For dissemimnation of studies @ $3,000 in Y3. - For Output 3.5: For dissemimnation of studies @ $3,000 in Y4.
H34: 75700 | I34: Training, workshop, conference | M34: =SUMIFS(Breakdown!L$53:'Breakdown'!L$66, Breakdown!$F$53:'Breakdown'!$F$66, $H34, Breakdown!$H$53:'Breakdown'!$H$66, $F$31) -> 5000 | N34: =SUMIFS(Breakdown!M$53:'Breakdown'!M$66, Breakdown!$F$53:'Breakdown'!$F$66, $H34, Breakdown!$H$53:'Breakdown'!$H$66, $F$31) -> 5000 | O34: =SUMIFS(Breakdown!N$53:'Breakdown'!N$66, Breakdown!$F$53:'Breakdown'!$F$66, $H34, Breakdown!$H$53:'Breakdown'!$H$66, $F$31) -> 5000 | P34: =SUMIFS(Breakdown!O$53:'Breakdown'!O$66, Breakdown!$F$53:'Breakdown'!$F$66, $H34, Breakdown!$H$53:'Breakdown'!$H$66, $F$31) -> 2500 | Q34: =SUM(M34:P34) -> 17500 | R34: 26 | S34: Includes: - For Output 3.1: 3 trainings@$2,500 per, including venue, meals and per-diem in Y1, Y2, Y3. - For Output 3.4: To cover venues, food, etc. for 2 trainings at @ $2,500/training in Y2 and Y3. - For Output 3.5: To cover venues, food, etc. for 2 trainings at @ $2,500/training in Y3 and Y4.
I35: sub-total GEF | M35: =SUM(M31:M34) -> 66224 | N35: =SUM(N31:N34) -> 36224 | O35: =SUM(O31:O34) -> 58224 | P35: =SUM(P31:P34) -> 5500 | Q35: =SUM(M35:P35) -> 166172
D36: 4000 | F36: UNDP | H36: 72100 | I36: Contractual services - Companies | M36: =SUMIFS(Breakdown!L$53:'Breakdown'!L$66, Breakdown!$F$53:'Breakdown'!$F$66, $H36, Breakdown!$H$53:'Breakdown'!$H$66, $F$36) -> 0 | N36: =SUMIFS(Breakdown!M$53:'Breakdown'!M$66, Breakdown!$F$53:'Breakdown'!$F$66, $H36, Breakdown!$H$53:'Breakdown'!$H$66, $F$36) -> 0 | O36: =SUMIFS(Breakdown!N$53:'Breakdown'!N$66, Breakdown!$F$53:'Breakdown'!$F$66, $H36, Breakdown!$H$53:'Breakdown'!$H$66, $F$36) -> 20000 | P36: =SUMIFS(Breakdown!O$53:'Breakdown'!O$66, Breakdown!$F$53:'Breakdown'!$F$66, $H36, Breakdown!$H$53:'Breakdown'!$H$66, $F$36) -> 20000 | Q36: =SUM(M36:P36) -> 40000 | R36: 27 | S36: Includes: - For Output 3.3: Contractual services for identification of instruments; design of fund operational structure; fundraising for the financial instrument @ $20,000 in Y3. - For Output 3.5: Contractual services for the development of the impact framework @ $20,000 in Y4.
I37: sub-total UNDP | M37: =SUM(M36) -> 0 | N37: =SUM(N36) -> 0 | O37: =SUM(O36) -> 20000 | P37: =SUM(P36) -> 20000 | Q37: =SUM(M37:P37) -> 40000
I38: Total Outcome 3 | M38: =M35+M37 -> 66224 | N38: =N35+N37 -> 36224 | O38: =O35+O37 -> 78224 | P38: =P35+P37 -> 25500 | Q38: =Q35+Q37 -> 206172
A39: COMPONENT 4: Digital, Knowledge Management and Monitoring and Evaluation | B39: ABER | D39: 62000 | F39: GEF | H39: 71200 | I39: International Consultants | M39: =SUMIFS(Breakdown!L$68:'Breakdown'!L$95, Breakdown!$F$68:'Breakdown'!$F$95, $H39, Breakdown!$H$68:'Breakdown'!$H$95, $F$39) -> 14000 | N39: =SUMIFS(Breakdown!M$68:'Breakdown'!M$95, Breakdown!$F$68:'Breakdown'!$F$95, $H39, Breakdown!$H$68:'Breakdown'!$H$95, $F$39) -> 0 | O39: =SUMIFS(Breakdown!N$68:'Breakdown'!N$95, Breakdown!$F$68:'Breakdown'!$F$95, $H39, Breakdown!$H$68:'Breakdown'!$H$95, $F$39) -> 0 | P39: =SUMIFS(Breakdown!O$68:'Breakdown'!O$95, Breakdown!$F$68:'Breakdown'!$F$95, $H39, Breakdown!$H$68:'Breakdown'!$H$95, $F$39) -> 7000 | Q39: =SUM(M39:P39) -> 21000 | R39: 28 | S39: Includes: - For Output 4.1: Consultant recruited 10 days@$700 to develop digital strategy in Y1. - For Output 4.3: Consultant recruited 10 days@$700 to develop QAMF in Y1. - For Output 4.8: 1 consultant recruited for 10 days to draft a replication and scaled-up plan in Y4 @ $300/day.
H40: 71300 | I40: Local Consultants | M40: =SUMIFS(Breakdown!L$68:'Breakdown'!L$95, Breakdown!$F$68:'Breakdown'!$F$95, $H40, Breakdown!$H$68:'Breakdown'!$H$95, $F$39) -> 3000 | N40: =SUMIFS(Breakdown!M$68:'Breakdown'!M$95, Breakdown!$F$68:'Breakdown'!$F$95, $H40, Breakdown!$H$68:'Breakdown'!$H$95, $F$39) -> 15000 | O40: =SUMIFS(Breakdown!N$68:'Breakdown'!N$95, Breakdown!$F$68:'Breakdown'!$F$95, $H40, Breakdown!$H$68:'Breakdown'!$H$95, $F$39) -> 0 | P40: =SUMIFS(Breakdown!O$68:'Breakdown'!O$95, Breakdown!$F$68:'Breakdown'!$F$95, $H40, Breakdown!$H$68:'Breakdown'!$H$95, $F$39) -> 18000 | Q40: =SUM(M40:P40) -> 36000 | R40: 29 | S40: Includes: - For Output 4.1: Local consultant to support international expert @ $300 per day for 10 days in Y1. - For Output 4.4: $15,000 for national consultant for MTR in Y2 and $15,000 for TE in Y4. - For Output 4.8: 10 days field work/data collection, etc. for national consultant @ $300/day in Y4.
H41: 71600 | I41: Travel | M41: =SUMIFS(Breakdown!L$68:'Breakdown'!L$95, Breakdown!$F$68:'Breakdown'!$F$95, $H41, Breakdown!$H$68:'Breakdown'!$H$95, $F$39) -> 7610 | N41: =SUMIFS(Breakdown!M$68:'Breakdown'!M$95, Breakdown!$F$68:'Breakdown'!$F$95, $H41, Breakdown!$H$68:'Breakdown'!$H$95, $F$39) -> 16344 | O41: =SUMIFS(Breakdown!N$68:'Breakdown'!N$95, Breakdown!$F$68:'Breakdown'!$F$95, $H41, Breakdown!$H$68:'Breakdown'!$H$95, $F$39) -> 0 | P41: =SUMIFS(Breakdown!O$68:'Breakdown'!O$95, Breakdown!$F$68:'Breakdown'!$F$95, $H41, Breakdown!$H$68:'Breakdown'!$H$95, $F$39) -> 1500 | Q41: =SUM(M41:P41) -> 25454 | R41: 30 | S41: Includes: - For Output 4.1: This covers DSAs for the international consultant for 5 days @ $281/day; 1 return ticket @ $1,500/ticket; Local travel for participants to the training: 30 participants per training @$20/participant/training. - For Output 4.3: This covers DSAs for the international consultant for 5 days @ $281/day; 1 return ticket @ $1,500/ticket; Local travel for participants to the training: 30 participants per training @$20/participant/training. - For Output 4.5: This covers DSAs for 6 participants for 4 days @ $281/day; 6 return ticket @ $1,500/ticket (in Y2) - For Output 4.6: This covers local travel for participants to the training: 30 participants per training @$20/participant/training in Y1, and the same in Y2. - For Output 4.8: Local travel for data collection during field visits @ $1,500 in Y4.
...

Sheet Budget_Notes
A1: Budget Note | B1: Description
A2: =Budget_UNDP!R3 -> 1 | B2: =Budget_UNDP!S3 -> Includes: - For Output 1.2: This covers contracting of 1 senior international consultant for 12 days (@ $700/day) with expertise in minigrid delivery models in Y1. - For Output 1.4: An international expert on quality standards for minigrids will be recruited for 20 days (@ $700/day), including 5 days in Y1 and 15 days in Y2 to support development of quality standards and institutional capacity-building. - For Output 1.5: An international expert will be recruited for 10 days (@ $700/day), including 5 days in Y1 and 5 days in Y2 to support the operatinalization of the certification scheme. - For Output 1.6: An international consultant @$700/day will be recruited for 10 days in Y4 to conduct the lightweight DREI analysis.
A3: =Budget_UNDP!R4 -> 2 | B3: =Budget_UNDP!S4 -> Includes: - For Output 1.1: $300 per meeting x 20 meetings of the multi-stakeholder platform over 4 years. - For Output 1.2: A local technical expert will be contracted for 20 days to support the international consultant in drafting a minigrid delivery strategy (@$300/day) in Y1. - For Output 1.3: A local consultant will be recruited for 20 days (8 days in Y1, 8 days in Y2, 4 days in Y3) to support the international expert in providing capacity-building trainings (@$300/day). - For Output 1.4: A national consultant will be recruited to suppport the international expert. This is planned to cover 20 days level of effort (@ $300/day), including 5 days in Y1 and 15 days in Y2. - For Output 1.5: A local consultant will be recruited for 10 days (@ $300/day), including 5 days in Y1 and 5 days in Y2 to support the international consultant. - For Output 1.6: A national consultant @ $300/day will be recruited for 10 days in Y4 to support the lightweight DREI analysis.
A4: =Budget_UNDP!R5 -> 3 | B4: =Budget_UNDP!S5 -> Includes: - For Output 1.1: DSA for local travel for each meeting (@$200/meeting for 20 meetings, 5 in each year); DSA for 2 people for 5 days @$281/day from the Senegalese platform in 2 trips (3 days + 2 days in Y1); 2 return tickets (Dakar - Ouagadougou) for 2 people from the Senegalese Platform (@$800/flight) in Y1. - For Output 1.2: This covers (all in Y1): 4 days DSA for international consultant ($281*4); 1 international return ticket for international consultant (@$1,500 per return ticket). The international consultant will attend the inception workshop virtually and the dissemination workshop on site. Local travel for local consultant and stakeholders ($20*70). - For Output 1.3: This covers DSA for the international consultant for the 3 trainings (9 days in Y1, 9 days in Y2, 5 days in Y3) @ $281/day; Local travel for participants to the 3 trainings: 30 participants per training @$20/participant/training; 3 return tickets for the international consultant @ $1,500/ticket (1 in each of Y1, Y2, Y3). - For Output 1.4: This covers DSA for the international consultant for the 3 trainings (4 days in Y1 and 12 days in Y2) @$281/day; Local travel for participants to the 3 trainings: 30 participants per training @$20/participant/training, with 1 training in Y1 and 2 trainings in Y2; 3 return tickets for the international consultant @ $1,500/ticket (1 in Y1 and 2 in Y2). - For Output 1.5: This covers DSA for the international consultant for 2 trainings (4 days in Y1 and 4 days in Y2) @$281/day; Local travel for participants to the 2 trainings: 30 participants per training @$20/participant/training, with 1 training in Y1 and 1 training in Y2; 2 return tickets for the international consultant @ $2,000/ticket (1 in Y1 and 1 in Y2).
A5: =Budget_UNDP!R6 -> 4 | B5: =Budget_UNDP!S6 -> Includes: - For Output 1.3: For procurement of tools necessary for increasing capacity of target stakeholders (@ $1,000 per year in Y1, Y2, Y3). - For Output 1.4: Covers equipement and material for the testing laboratory (bought in Y1), for $5,000 in total.
A6: =Budget_UNDP!R7 -> 5 | B6: =Budget_UNDP!S7 -> Includes: - For Output 1.3: Supplies related to trainings and building technical capacities of target institutional actors (@ $1,000 per year in Y1, Y2, Y3).
A7: =Budget_UNDP!R8 -> 6 | B7: =Budget_UNDP!S8 -> Includes: - For Output 1.4: Communication costs at $1,000 in Y2. - For Output 1.6: Communication and translation costs for $3,000 in Y4.
A8: =Budget_UNDP!R9 -> 7 | B8: =Budget_UNDP!S9 -> Includes: - For Output 1.1: This will cover venues and related cost for for capacity- building trainings of multi-stakeholders' platform on various themes such as e-waste, tax-exemption, fundraising, delivery models, innovative minigrid technologies, etc. This line item will also cover participation of members of the Platform in workshops, when necessary (@$1,500/year). - For Output 1.2: This covers venue and related costs for 2 workshops (inception and dissemination) in Y1 during the minigrid strategy development (@$2,500 per workshop). - For Output 1.3: To cover venue and related cost for the 3 trainings @ $2,500 per training in Y1 and Y2, and $2,000 in Y3. - For Output 1.4: This covers 3 trainings @2,500/training, including 1 training and Y1 and 2 trainings in Y2. - For Output 1.5: This covers 2 trainings @2,500/training, including 1 training and Y1 and 1 training in Y2.
A9: =Budget_UNDP!R10 -> 8 | B9: =Budget_UNDP!S10 -> Includes: - For Output 1.4: This covers 3 computers and other IT equipment for the testing laboratory (bought in Y1), for a total of $8,000.
A10: =Budget_UNDP!R12 -> 9 | B10: =Budget_UNDP!S12 -> Includes: - For Output 1.1: 2 consultants paid @ $700 / day for 7 days each to support the national multi-stakeholder platform. - For Output 1.3: International consultant will be recruited for 20 days (8 days in Y1, 8 days in Y2, 4 days in Y3), so 3 trainings in total, to provide capacity-building trainings to targeted public sector stakeholders involved in minigrid promotion such as regulator, agencies, etc. (@ $700/day).
A11: =Budget_UNDP!R13 -> 10 | B11: =Budget_UNDP!S13 -> Includes: - For Output 1.5: Covers equipement and material for the trainings, $4,000 in Y1 and $4,000 in Y2.
A12: =Budget_UNDP!R16 -> 11 | B12: =Budget_UNDP!S16 -> Includes: - For Output 2.1: This include: $12K for a legal consultant to support the tender and contracting process for the pilot projects in Y1; $7,020 for a safeguards consultant in Y1.
A13: =Budget_UNDP!R17 -> 12 | B13: =Budget_UNDP!S17 -> Includes: - For Output 2.2: Local expert to support elaboration and capacity-buidling in collaboration with an international expert: 10 days in Y1 and 10 days in Y2 @ $300/day.. - For Output 2.3: Part-time HR to provide admin services to the Association and also adhoc consulting needs (12 days @ $300/day for Y1 and Y2 each).
A14: =Budget_UNDP!R18 -> 13 | B14: =Budget_UNDP!S18 -> Includes: - For Output 2.2: This covers DSA for the international consultant for the 2 trainings (5 days in Y1, 5 days in Y2) @ $281/day; Local travel for participants to the 2 trainings: 30 participants per training @$20/participant/training; 2 return tickets for the international consultant @ $2,000/ticket (1 in each of Y1, Y2). - For Output 2.3: This covers DSAs for 4 people for 5 days @ $281/day; 4 return tickets: 1 for the international consultant @ $2,000/ticket, and 3 for the members of the association @ $1,500/ticket.
A15: =Budget_UNDP!R19 -> 14 | B15: =Budget_UNDP!S19 -> Includes: - For Output 2.1: Sub-contract to international firm/manufacturer to provide O&M @ $6,506 for Y2 then $3,297/year for Y3, Y4.
A16: =Budget_UNDP!R20 -> 15 | B16: =Budget_UNDP!S20 -> Includes: - For Output 2.1: Procurement of minigrid and related goods and services for the two pilot projects.
A17: =Budget_UNDP!R21 -> 16 | B17: =Budget_UNDP!S21 -> Includes: - For Output 2.3: 2 computers, 1 printers, etc. for the office @ $2,500 in Y1.
A18: =Budget_UNDP!R22 -> 17 | B18: =Budget_UNDP!S22 -> Includes: - For Output 2.3: This will cover printing of brochures, business cards and etc. @ $1,500 in Y1.
A19: =Budget_UNDP!R23 -> 18 | B19: =Budget_UNDP!S23 -> Includes: - For Output 2.1: Training in innovative business models, entrepreneurship, installations, financial literacy for women. Also, issues of IPP and climate change will be covered under these trainings. - For Output 2.2: This covers 2 trainings @2,500/training, including 1 training and Y1 and 1 training in Y2. - For Output 2.3: This covers venue, breaks, etc. fees paid to attend conferences, etc. as well as possible registration fees to attend workshops @ $2,500 in Y1 and $2,500 in Y2.
A20: =Budget_UNDP!R25 -> 19 | B20: =Budget_UNDP!S25 -> Includes: - For Output 2.1: $6,215 in Y1, $6,312 in Y2, $6,409 in Y3, $6,312 in Y4 for safeguards and gender consultants. - For Output 2.2: International expert recruited for about 14 days to suppport training of target stakeholders (7 days in Y1 and 7 days in Y2 @ $700/day). - For Output 2.3: An international consultant will support the industry association in terms of best-practices, membership growth, bylaws, etc. 12 days @ $700/day (6 days in Y1 and 6 days in Y2).
A21: =Budget_UNDP!R26 -> 20 | B21: =Budget_UNDP!S26 -> Includes: - For Output 2.3: A firm will be hired to develop/design communication collaterals for the association such as website, deck, etc.@ $2,000 in Y1 and $2,000 in Y2.
A22: =Budget_UNDP!R27 -> 21 | B22: =Budget_UNDP!S27 -> Includes: - For Output 2.1: Procurement of minigrid and related goods and services for the two pilot projects: $177,622 in Y2 and $222,000 in Y3. - For Output 2.3: This will cover office supplies for the association, i.e. furnitures, etc. @ $2,000 in Y1
A23: =Budget_UNDP!R28 -> 22 | B23: =Budget_UNDP!S28 -> Includes: - For Output 2.3: To cover initiatial support for industry association in terms book-keeping, audit for 2 years@$2K per year for Y1 and Y2.
A24: =Budget_UNDP!R31 -> 23 | B24: =Budget_UNDP!S31 -> Includes: - For Output 3.1: This covers: DSAs for the international consultant for 12 days @ $281/day; 3 return tickets @ $1,500/ticket; Local travel for participants to the 3 trainings: 30 participants per training @$20/participant/training.
A25: =Budget_UNDP!R32 -> 24 | B25: =Budget_UNDP!S32 -> Includes: - For Output 3.1: 3 capacity-building consulting contracts@$5,000 each for Y1, Y2, Y3. - For Output 3.2: Contractual services for market assessment exercises @ $30,000 in Y1. - For Output 3.3: Contractual services for identification of instruments; design of fund operational structure; fundraising for the financial instrument @ $30,000 in Y3. - For Output 3.4: Contractual services for the feasibility study @ $20,000 in Y2 and $20,000 in Y3. - For Output 3.5: Contractual services for the development of the impact framework @ $15,000 in Y3.
A26: =Budget_UNDP!R33 -> 25 | B26: =Budget_UNDP!S33 -> Includes: - For Output 3.2: For dissemimnation of market intelligence @ $3,000 in Y1. - For Output 3.4: For dissemimnation of studies @ $3,000 in Y3. - For Output 3.5: For dissemimnation of studies @ $3,000 in Y4.
A27: =Budget_UNDP!R34 -> 26 | B27: =Budget_UNDP!S34 -> Includes: - For Output 3.1: 3 trainings@$2,500 per, including venue, meals and per-diem in Y1, Y2, Y3. - For Output 3.4: To cover venues, food, etc. for 2 trainings at @ $2,500/training in Y2 and Y3. - For Output 3.5: To cover venues, food, etc. for 2 trainings at @ $2,500/training in Y3 and Y4.
A28: =Budget_UNDP!R36 -> 27 | B28: =Budget_UNDP!S36 -> Includes: - For Output 3.3: Contractual services for identification of instruments; design of fund operational structure; fundraising for the financial instrument @ $20,000 in Y3. - For Output 3.5: Contractual services for the development of the impact framework @ $20,000 in Y4.
A29: =Budget_UNDP!R39 -> 28 | B29: =Budget_UNDP!S39 -> Includes: - For Output 4.1: Consultant recruited 10 days@$700 to develop digital strategy in Y1. - For Output 4.3: Consultant recruited 10 days@$700 to develop QAMF in Y1. - For Output 4.8: 1 consultant recruited for 10 days to draft a replication and scaled-up plan in Y4 @ $300/day.
